Package: NormalyzerDE Version: 1.22.0 Maintainer: Jakob Willforss MaintainerEmail: jakob.willforss at hotmail.com git_url: https://git.bioconductor.org/packages/NormalyzerDE git_branch: RELEASE_3_19 git_last_commit: 71675ee git_last_commit_date: 2024-04-30 11:08:59 -0400 (Tue, 30 Apr 2024)