Package: NoRCE Version: 1.16.0 Command: rm -rf NoRCE.buildbin-libdir && mkdir NoRCE.buildbin-libdir && F:\biocbuild\bbs-3.19-bioc\R\bin\R.exe CMD INSTALL --build --library=NoRCE.buildbin-libdir NoRCE_1.16.0.tar.gz StartedAt: 2024-06-27 08:36:16 -0400 (Thu, 27 Jun 2024) EndedAt: 2024-06-27 08:37:10 -0400 (Thu, 27 Jun 2024) EllapsedTime: 54.1 seconds RetCode: 0 Status: OK PackageFile: NoRCE_1.16.0.zip PackageFileSize: 2.382 MiB