Package: NoRCE Version: 1.16.0 Command: /home/biocbuild/bbs-3.19-bioc/R/bin/R CMD build --keep-empty-dirs --no-resave-data NoRCE StartedAt: 2024-10-16 19:48:42 -0400 (Wed, 16 Oct 2024) EndedAt: 2024-10-16 19:49:51 -0400 (Wed, 16 Oct 2024) EllapsedTime: 69.2 seconds RetCode: 0 Status: OK PackageFile: NoRCE_1.16.0.tar.gz PackageFileSize: 2.025 MiB