Package: NoRCE Version: 1.16.0 Command: /home/biocbuild/R/R-beta-2024-04-15_r86425/bin/R CMD build --keep-empty-dirs --no-resave-data NoRCE StartedAt: 2024-05-09 02:09:25 -0000 (Thu, 09 May 2024) EndedAt: 2024-05-09 02:10:26 -0000 (Thu, 09 May 2024) EllapsedTime: 61.1 seconds RetCode: 0 Status: OK PackageFile: NoRCE_1.16.0.tar.gz PackageFileSize: 2.025 MiB