Package: NoRCE Version: 1.16.0 Command: /Library/Frameworks/R.framework/Resources/bin/R CMD check --install=check:NoRCE.install-out.txt --library=/Library/Frameworks/R.framework/Resources/library --no-vignettes --timings NoRCE_1.16.0.tar.gz StartedAt: 2024-06-10 23:55:56 -0400 (Mon, 10 Jun 2024) EndedAt: 2024-06-11 00:04:08 -0400 (Tue, 11 Jun 2024) EllapsedTime: 491.5 seconds RetCode: 0 Status: OK CheckDir: NoRCE.Rcheck Warnings: 0