Package: NoRCE Version: 1.16.0 Command: /Library/Frameworks/R.framework/Resources/bin/R CMD check --install=check:NoRCE.install-out.txt --library=/Library/Frameworks/R.framework/Resources/library --no-vignettes --timings NoRCE_1.16.0.tar.gz StartedAt: 2024-10-18 06:07:22 -0400 (Fri, 18 Oct 2024) EndedAt: 2024-10-18 06:13:00 -0400 (Fri, 18 Oct 2024) EllapsedTime: 337.6 seconds RetCode: 0 Status: OK CheckDir: NoRCE.Rcheck Warnings: 0