Package: NoRCE Version: 1.16.0 Command: rm -rf NoRCE.buildbin-libdir && mkdir NoRCE.buildbin-libdir && /Users/biocbuild/BBS/utils/build-universal.sh NoRCE_1.16.0.tar.gz /Library/Frameworks/R.framework/Resources/bin/R NoRCE.buildbin-libdir StartedAt: 2024-10-18 19:46:21 -0400 (Fri, 18 Oct 2024) EndedAt: 2024-10-18 19:47:21 -0400 (Fri, 18 Oct 2024) EllapsedTime: 59.7 seconds RetCode: 0 Status: OK PackageFile: NoRCE_1.16.0.tgz PackageFileSize: 2.361 MiB