Package: NoRCE Version: 1.16.0 Maintainer: Gulden Olgun MaintainerEmail: gulden at cs.bilkent.edu.tr git_url: https://git.bioconductor.org/packages/NoRCE git_branch: RELEASE_3_19 git_last_commit: 9e07bb2 git_last_commit_date: 2024-04-30 11:21:52 -0400 (Tue, 30 Apr 2024)