Package: NewWave Version: 1.14.0 Command: chmod a+r NewWave -R && E:\biocbuild\bbs-3.19-bioc\R\bin\R.exe CMD build --keep-empty-dirs --no-resave-data NewWave StartedAt: 2024-10-16 20:43:10 -0400 (Wed, 16 Oct 2024) EndedAt: 2024-10-16 20:46:21 -0400 (Wed, 16 Oct 2024) EllapsedTime: 190.8 seconds RetCode: 0 Status: OK PackageFile: NewWave_1.14.0.tar.gz PackageFileSize: 50.19 KiB