Package: NewWave Version: 1.14.0 Command: chmod a+r NewWave -R && F:\biocbuild\bbs-3.19-bioc\R\bin\R.exe CMD build --keep-empty-dirs --no-resave-data NewWave StartedAt: 2024-06-26 20:29:56 -0400 (Wed, 26 Jun 2024) EndedAt: 2024-06-26 20:32:45 -0400 (Wed, 26 Jun 2024) EllapsedTime: 168.7 seconds RetCode: 0 Status: OK PackageFile: NewWave_1.14.0.tar.gz PackageFileSize: 49.96 KiB