Package: NewWave Version: 1.14.0 Command: /Library/Frameworks/R.framework/Resources/bin/R CMD build --keep-empty-dirs --no-resave-data NewWave StartedAt: 2024-10-16 21:35:53 -0400 (Wed, 16 Oct 2024) EndedAt: 2024-10-16 21:42:26 -0400 (Wed, 16 Oct 2024) EllapsedTime: 392.9 seconds RetCode: 0 Status: OK PackageFile: NewWave_1.14.0.tar.gz PackageFileSize: 91.38 KiB