Package: NewWave Version: 1.14.0 Command: /Library/Frameworks/R.framework/Resources/bin/R CMD build --keep-empty-dirs --no-resave-data NewWave StartedAt: 2024-10-17 05:39:11 -0400 (Thu, 17 Oct 2024) EndedAt: 2024-10-17 05:41:45 -0400 (Thu, 17 Oct 2024) EllapsedTime: 154.7 seconds RetCode: 0 Status: OK PackageFile: NewWave_1.14.0.tar.gz PackageFileSize: 93.03 KiB