Package: NewWave Version: 1.14.0 Maintainer: Federico Agostinis MaintainerEmail: federico.agostinis at outlook.com git_url: https://git.bioconductor.org/packages/NewWave git_branch: RELEASE_3_19 git_last_commit: 6e5903e git_last_commit_date: 2024-04-30 11:29:21 -0400 (Tue, 30 Apr 2024)