Package: NeuCA Version: 1.10.0 Command: E:\biocbuild\bbs-3.19-bioc\R\bin\R.exe CMD INSTALL NeuCA StartedAt: 2024-10-16 16:38:47 -0400 (Wed, 16 Oct 2024) EndedAt: 2024-10-16 16:39:16 -0400 (Wed, 16 Oct 2024) EllapsedTime: 29.8 seconds RetCode: 0 Status: OK