Package: NeuCA Version: 1.10.0 Command: chmod a+r NeuCA -R && E:\biocbuild\bbs-3.19-bioc\R\bin\R.exe CMD build --keep-empty-dirs --no-resave-data NeuCA StartedAt: 2024-10-16 20:43:06 -0400 (Wed, 16 Oct 2024) EndedAt: 2024-10-16 20:44:50 -0400 (Wed, 16 Oct 2024) EllapsedTime: 103.8 seconds RetCode: 1 Status: ERROR PackageFile: None PackageFileSize: NA