Package: NeuCA Version: 1.10.0 Command: chmod a+r NeuCA -R && F:\biocbuild\bbs-3.19-bioc\R\bin\R.exe CMD build --keep-empty-dirs --no-resave-data NeuCA StartedAt: 2024-06-26 20:29:44 -0400 (Wed, 26 Jun 2024) EndedAt: 2024-06-26 20:31:20 -0400 (Wed, 26 Jun 2024) EllapsedTime: 96.3 seconds RetCode: 0 Status: OK PackageFile: NeuCA_1.10.0.tar.gz PackageFileSize: 3.702 MiB