Package: NeuCA Version: 1.10.0 Command: rm -rf NeuCA.buildbin-libdir && mkdir NeuCA.buildbin-libdir && F:\biocbuild\bbs-3.19-bioc\R\bin\R.exe CMD INSTALL --build --library=NeuCA.buildbin-libdir NeuCA_1.10.0.tar.gz StartedAt: 2024-06-27 08:35:57 -0400 (Thu, 27 Jun 2024) EndedAt: 2024-06-27 08:36:34 -0400 (Thu, 27 Jun 2024) EllapsedTime: 36.7 seconds RetCode: 0 Status: OK PackageFile: NeuCA_1.10.0.zip PackageFileSize: 3.422 MiB