Package: NeuCA Version: 1.10.0 Command: /Library/Frameworks/R.framework/Resources/bin/R CMD INSTALL NeuCA StartedAt: 2024-10-16 15:56:56 -0400 (Wed, 16 Oct 2024) EndedAt: 2024-10-16 15:57:54 -0400 (Wed, 16 Oct 2024) EllapsedTime: 57.5 seconds RetCode: 0 Status: OK