Package: NeuCA Version: 1.10.0 Command: /Library/Frameworks/R.framework/Resources/bin/R CMD build --keep-empty-dirs --no-resave-data NeuCA StartedAt: 2024-06-09 17:31:27 -0400 (Sun, 09 Jun 2024) EndedAt: 2024-06-09 17:32:35 -0400 (Sun, 09 Jun 2024) EllapsedTime: 67.7 seconds RetCode: 0 Status: OK PackageFile: NeuCA_1.10.0.tar.gz PackageFileSize: 3.701 MiB