Package: NeuCA Version: 1.10.0 Command: /home/biocbuild/R/R-beta-2024-04-15_r86425/bin/R CMD INSTALL NeuCA StartedAt: 2024-05-08 20:34:08 -0000 (Wed, 08 May 2024) EndedAt: 2024-05-08 20:34:42 -0000 (Wed, 08 May 2024) EllapsedTime: 34.0 seconds RetCode: 0 Status: OK