Package: NeuCA Version: 1.10.0 Command: /Library/Frameworks/R.framework/Resources/bin/R CMD INSTALL NeuCA StartedAt: 2024-06-09 16:16:54 -0400 (Sun, 09 Jun 2024) EndedAt: 2024-06-09 16:17:35 -0400 (Sun, 09 Jun 2024) EllapsedTime: 40.7 seconds RetCode: 0 Status: OK