Package: NetSAM Version: 1.44.0 Command: rm -rf NetSAM.buildbin-libdir && mkdir NetSAM.buildbin-libdir && E:\biocbuild\bbs-3.19-bioc\R\bin\R.exe CMD INSTALL --build --library=NetSAM.buildbin-libdir NetSAM_1.44.0.tar.gz StartedAt: 2024-10-17 08:15:41 -0400 (Thu, 17 Oct 2024) EndedAt: 2024-10-17 08:16:18 -0400 (Thu, 17 Oct 2024) EllapsedTime: 36.5 seconds RetCode: 0 Status: OK PackageFile: NetSAM_1.44.0.zip PackageFileSize: 1.213 MiB