Package: NetSAM Version: 1.44.0 Command: /home/biocbuild/bbs-3.19-bioc/R/bin/R CMD check --install=check:NetSAM.install-out.txt --library=/home/biocbuild/bbs-3.19-bioc/R/site-library --timings NetSAM_1.44.0.tar.gz StartedAt: 2024-10-17 03:04:40 -0400 (Thu, 17 Oct 2024) EndedAt: 2024-10-17 03:34:11 -0400 (Thu, 17 Oct 2024) EllapsedTime: 1770.3 seconds RetCode: 0 Status: OK CheckDir: NetSAM.Rcheck Warnings: 0