Package: NetSAM Version: 1.44.0 Command: rm -rf NetSAM.buildbin-libdir && mkdir NetSAM.buildbin-libdir && /Users/biocbuild/BBS/utils/build-universal.sh NetSAM_1.44.0.tar.gz /Library/Frameworks/R.framework/Resources/bin/R NetSAM.buildbin-libdir StartedAt: 2024-10-18 19:45:00 -0400 (Fri, 18 Oct 2024) EndedAt: 2024-10-18 19:45:36 -0400 (Fri, 18 Oct 2024) EllapsedTime: 35.3 seconds RetCode: 0 Status: OK PackageFile: NetSAM_1.44.0.tgz PackageFileSize: 1.232 MiB