Package: NetPathMiner Version: 1.40.0 Command: E:\biocbuild\bbs-3.19-bioc\R\bin\R.exe CMD check --no-multiarch --install=check:NetPathMiner.install-out.txt --library=E:\biocbuild\bbs-3.19-bioc\R\library --no-vignettes --timings NetPathMiner_1.40.0.tar.gz StartedAt: 2024-10-10 03:29:56 -0400 (Thu, 10 Oct 2024) EndedAt: 2024-10-10 03:31:22 -0400 (Thu, 10 Oct 2024) EllapsedTime: 86.2 seconds RetCode: 0 Status: WARNINGS CheckDir: NetPathMiner.Rcheck Warnings: 1