Package: NetPathMiner Version: 1.40.0 Command: chmod a+r NetPathMiner -R && F:\biocbuild\bbs-3.19-bioc\R\bin\R.exe CMD build --keep-empty-dirs --no-resave-data NetPathMiner StartedAt: 2024-06-26 20:29:10 -0400 (Wed, 26 Jun 2024) EndedAt: 2024-06-26 20:32:03 -0400 (Wed, 26 Jun 2024) EllapsedTime: 172.7 seconds RetCode: 0 Status: OK PackageFile: NetPathMiner_1.40.0.tar.gz PackageFileSize: 1.849 MiB