Package: NetPathMiner Version: 1.40.2 Command: /Library/Frameworks/R.framework/Resources/bin/R CMD build --keep-empty-dirs --no-resave-data NetPathMiner StartedAt: 2024-10-16 21:34:26 -0400 (Wed, 16 Oct 2024) EndedAt: 2024-10-16 21:35:39 -0400 (Wed, 16 Oct 2024) EllapsedTime: 73.2 seconds RetCode: 0 Status: OK PackageFile: NetPathMiner_1.40.2.tar.gz PackageFileSize: 2.486 MiB