Package: NetPathMiner Version: 1.40.2 Command: rm -rf NetPathMiner.buildbin-libdir && mkdir NetPathMiner.buildbin-libdir && /Users/biocbuild/BBS/utils/build-universal.sh NetPathMiner_1.40.2.tar.gz /Library/Frameworks/R.framework/Resources/bin/R NetPathMiner.buildbin-libdir StartedAt: 2024-10-17 16:43:54 -0400 (Thu, 17 Oct 2024) EndedAt: 2024-10-17 16:44:36 -0400 (Thu, 17 Oct 2024) EllapsedTime: 41.8 seconds RetCode: 0 Status: OK PackageFile: NetPathMiner_1.40.2.tgz PackageFileSize: 2.61 MiB