Package: NetPathMiner Version: 1.40.2 Command: /Library/Frameworks/R.framework/Resources/bin/R CMD check --install=check:NetPathMiner.install-out.txt --library=/Library/Frameworks/R.framework/Resources/library --no-vignettes --timings NetPathMiner_1.40.2.tar.gz StartedAt: 2024-10-18 05:56:59 -0400 (Fri, 18 Oct 2024) EndedAt: 2024-10-18 05:58:12 -0400 (Fri, 18 Oct 2024) EllapsedTime: 72.6 seconds RetCode: 0 Status: OK CheckDir: NetPathMiner.Rcheck Warnings: 0