Package: NetPathMiner Version: 1.40.2 Command: rm -rf NetPathMiner.buildbin-libdir && mkdir NetPathMiner.buildbin-libdir && /Users/biocbuild/BBS/utils/build-universal.sh NetPathMiner_1.40.2.tar.gz /Library/Frameworks/R.framework/Resources/bin/R NetPathMiner.buildbin-libdir StartedAt: 2024-10-18 19:44:48 -0400 (Fri, 18 Oct 2024) EndedAt: 2024-10-18 19:45:16 -0400 (Fri, 18 Oct 2024) EllapsedTime: 28.5 seconds RetCode: 0 Status: OK PackageFile: NetPathMiner_1.40.2.tgz PackageFileSize: 2.624 MiB