Package: NetPathMiner Version: 1.40.2 Maintainer: Ahmed Mohamed MaintainerEmail: mohamed at kuicr.kyoto-u.ac.jp git_url: https://git.bioconductor.org/packages/NetPathMiner git_branch: RELEASE_3_19 git_last_commit: 6e1a540 git_last_commit_date: 2024-10-15 10:47:44 -0400 (Tue, 15 Oct 2024)