Package: NetActivity Version: 1.6.0 Command: E:\biocbuild\bbs-3.19-bioc\R\bin\R.exe CMD INSTALL NetActivity StartedAt: 2024-10-16 16:27:46 -0400 (Wed, 16 Oct 2024) EndedAt: 2024-10-16 16:28:14 -0400 (Wed, 16 Oct 2024) EllapsedTime: 28.7 seconds RetCode: 0 Status: OK