Package: NetActivity Version: 1.6.0 Command: chmod a+r NetActivity -R && E:\biocbuild\bbs-3.19-bioc\R\bin\R.exe CMD build --keep-empty-dirs --no-resave-data NetActivity StartedAt: 2024-10-16 20:42:02 -0400 (Wed, 16 Oct 2024) EndedAt: 2024-10-16 20:43:12 -0400 (Wed, 16 Oct 2024) EllapsedTime: 69.9 seconds RetCode: 0 Status: OK PackageFile: NetActivity_1.6.0.tar.gz PackageFileSize: 345.1 KiB