Package: NetActivity Version: 1.6.0 Command: rm -rf NetActivity.buildbin-libdir && mkdir NetActivity.buildbin-libdir && E:\biocbuild\bbs-3.19-bioc\R\bin\R.exe CMD INSTALL --build --library=NetActivity.buildbin-libdir NetActivity_1.6.0.tar.gz StartedAt: 2024-10-17 08:15:31 -0400 (Thu, 17 Oct 2024) EndedAt: 2024-10-17 08:16:06 -0400 (Thu, 17 Oct 2024) EllapsedTime: 34.5 seconds RetCode: 0 Status: OK PackageFile: NetActivity_1.6.0.zip PackageFileSize: 359.3 KiB