Package: NetActivity Version: 1.6.0 Command: F:\biocbuild\bbs-3.19-bioc\R\bin\R.exe CMD INSTALL NetActivity StartedAt: 2024-06-26 16:00:37 -0400 (Wed, 26 Jun 2024) EndedAt: 2024-06-26 16:01:13 -0400 (Wed, 26 Jun 2024) EllapsedTime: 35.6 seconds RetCode: 0 Status: OK