Package: NetActivity Version: 1.6.0 Command: chmod a+r NetActivity -R && F:\biocbuild\bbs-3.19-bioc\R\bin\R.exe CMD build --keep-empty-dirs --no-resave-data NetActivity StartedAt: 2024-06-26 20:28:24 -0400 (Wed, 26 Jun 2024) EndedAt: 2024-06-26 20:29:37 -0400 (Wed, 26 Jun 2024) EllapsedTime: 72.7 seconds RetCode: 0 Status: OK PackageFile: NetActivity_1.6.0.tar.gz PackageFileSize: 345.1 KiB