Package: NetActivity Version: 1.6.0 Command: /Library/Frameworks/R.framework/Resources/bin/R CMD check --install=check:NetActivity.install-out.txt --library=/Library/Frameworks/R.framework/Resources/library --no-vignettes --timings NetActivity_1.6.0.tar.gz StartedAt: 2024-10-17 09:59:11 -0400 (Thu, 17 Oct 2024) EndedAt: 2024-10-17 10:07:53 -0400 (Thu, 17 Oct 2024) EllapsedTime: 522.5 seconds RetCode: 0 Status: OK CheckDir: NetActivity.Rcheck Warnings: 0