Package: NetActivity Version: 1.6.0 Command: /Library/Frameworks/R.framework/Resources/bin/R CMD build --keep-empty-dirs --no-resave-data NetActivity StartedAt: 2024-10-16 21:33:46 -0400 (Wed, 16 Oct 2024) EndedAt: 2024-10-16 21:36:25 -0400 (Wed, 16 Oct 2024) EllapsedTime: 159.3 seconds RetCode: 0 Status: OK PackageFile: NetActivity_1.6.0.tar.gz PackageFileSize: 437.6 KiB