Package: NetActivity Version: 1.6.0 Command: /Library/Frameworks/R.framework/Resources/bin/R CMD check --install=check:NetActivity.install-out.txt --library=/Library/Frameworks/R.framework/Resources/library --no-vignettes --timings NetActivity_1.6.0.tar.gz StartedAt: 2024-06-09 21:52:06 -0400 (Sun, 09 Jun 2024) EndedAt: 2024-06-09 21:56:25 -0400 (Sun, 09 Jun 2024) EllapsedTime: 258.7 seconds RetCode: 1 Status: ERROR CheckDir: NetActivity.Rcheck Warnings: NA