Package: NetActivity Version: 1.6.0 Command: /Library/Frameworks/R.framework/Resources/bin/R CMD INSTALL NetActivity StartedAt: 2024-06-09 15:40:47 -0400 (Sun, 09 Jun 2024) EndedAt: 2024-06-09 15:41:22 -0400 (Sun, 09 Jun 2024) EllapsedTime: 34.4 seconds RetCode: 0 Status: OK