Package: NetActivity Version: 1.6.0 Command: /Library/Frameworks/R.framework/Resources/bin/R CMD build --keep-empty-dirs --no-resave-data NetActivity StartedAt: 2024-06-10 01:36:59 -0400 (Mon, 10 Jun 2024) EndedAt: 2024-06-10 01:38:51 -0400 (Mon, 10 Jun 2024) EllapsedTime: 111.2 seconds RetCode: 0 Status: OK PackageFile: NetActivity_1.6.0.tar.gz PackageFileSize: 438.2 KiB