Package: NetActivity Version: 1.6.0 Command: /Library/Frameworks/R.framework/Resources/bin/R CMD INSTALL NetActivity StartedAt: 2024-10-16 16:29:37 -0400 (Wed, 16 Oct 2024) EndedAt: 2024-10-16 16:30:06 -0400 (Wed, 16 Oct 2024) EllapsedTime: 28.7 seconds RetCode: 0 Status: OK