Package: NeighborNet Version: 1.22.0 Command: rm -rf NeighborNet.buildbin-libdir && mkdir NeighborNet.buildbin-libdir && E:\biocbuild\bbs-3.19-bioc\R\bin\R.exe CMD INSTALL --build --library=NeighborNet.buildbin-libdir NeighborNet_1.22.0.tar.gz StartedAt: 2024-10-17 08:15:26 -0400 (Thu, 17 Oct 2024) EndedAt: 2024-10-17 08:15:38 -0400 (Thu, 17 Oct 2024) EllapsedTime: 11.7 seconds RetCode: 0 Status: OK PackageFile: NeighborNet_1.22.0.zip PackageFileSize: 3.543 MiB