Package: NeighborNet Version: 1.22.0 Command: /Library/Frameworks/R.framework/Resources/bin/R CMD build --keep-empty-dirs --no-resave-data NeighborNet StartedAt: 2024-10-16 21:33:37 -0400 (Wed, 16 Oct 2024) EndedAt: 2024-10-16 21:34:24 -0400 (Wed, 16 Oct 2024) EllapsedTime: 47.1 seconds RetCode: 0 Status: OK PackageFile: NeighborNet_1.22.0.tar.gz PackageFileSize: 3.692 MiB