Package: NeighborNet Version: 1.22.0 Command: /Library/Frameworks/R.framework/Resources/bin/R CMD INSTALL NeighborNet StartedAt: 2024-10-16 15:39:58 -0400 (Wed, 16 Oct 2024) EndedAt: 2024-10-16 15:40:02 -0400 (Wed, 16 Oct 2024) EllapsedTime: 4.0 seconds RetCode: 0 Status: OK