Package: NeighborNet Version: 1.22.0 Maintainer: Sahar Ansari MaintainerEmail: saharansari at wayne.edu git_url: https://git.bioconductor.org/packages/NeighborNet git_branch: RELEASE_3_19 git_last_commit: ea68e55 git_last_commit_date: 2024-04-30 11:09:50 -0400 (Tue, 30 Apr 2024)