Package: Nebulosa Version: 1.14.0 Command: E:\biocbuild\bbs-3.19-bioc\R\bin\R.exe CMD check --no-multiarch --install=check:Nebulosa.install-out.txt --library=E:\biocbuild\bbs-3.19-bioc\R\library --no-vignettes --timings Nebulosa_1.14.0.tar.gz StartedAt: 2024-10-17 03:56:08 -0400 (Thu, 17 Oct 2024) EndedAt: 2024-10-17 03:59:49 -0400 (Thu, 17 Oct 2024) EllapsedTime: 221.1 seconds RetCode: 0 Status: OK CheckDir: Nebulosa.Rcheck Warnings: 0