Package: Nebulosa Version: 1.14.0 Command: chmod a+r Nebulosa -R && F:\biocbuild\bbs-3.19-bioc\R\bin\R.exe CMD build --keep-empty-dirs --no-resave-data Nebulosa StartedAt: 2024-06-26 20:27:47 -0400 (Wed, 26 Jun 2024) EndedAt: 2024-06-26 20:34:33 -0400 (Wed, 26 Jun 2024) EllapsedTime: 406.6 seconds RetCode: 0 Status: OK PackageFile: Nebulosa_1.14.0.tar.gz PackageFileSize: 2.342 MiB