Package: Nebulosa Version: 1.14.0 Command: /Library/Frameworks/R.framework/Resources/bin/R CMD build --keep-empty-dirs --no-resave-data Nebulosa StartedAt: 2024-10-16 21:33:32 -0400 (Wed, 16 Oct 2024) EndedAt: 2024-10-16 21:41:19 -0400 (Wed, 16 Oct 2024) EllapsedTime: 467.1 seconds RetCode: 0 Status: OK PackageFile: Nebulosa_1.14.0.tar.gz PackageFileSize: 3.45 MiB