Package: Nebulosa Version: 1.14.0 Command: rm -rf Nebulosa.buildbin-libdir && mkdir Nebulosa.buildbin-libdir && /Users/biocbuild/BBS/utils/build-universal.sh Nebulosa_1.14.0.tar.gz /Library/Frameworks/R.framework/Resources/bin/R Nebulosa.buildbin-libdir StartedAt: 2024-06-10 00:29:43 -0400 (Mon, 10 Jun 2024) EndedAt: 2024-06-10 00:30:24 -0400 (Mon, 10 Jun 2024) EllapsedTime: 41.1 seconds RetCode: 0 Status: OK PackageFile: Nebulosa_1.14.0.tgz PackageFileSize: 3.421 MiB